BEGIN:VCALENDAR
VERSION:2.0
PRODID:-//hacksw/handcal//NONSGML v1.0//EN
CALSCALE:GREGORIAN
BEGIN:VEVENT
LOCATION:Mid-America Center\, 1 Arena Way\, Council Bluffs\, IA
DESCRIPTION:
DTSTART:20260717T120000
DTEND:20260717T170000
SUMMARY:O Con Expo
URL;VALUE=URI:https://www.unleashcb.com/events/o_con_expo/2026-07-17/
DTSTAMP:20260421T091807
UID:69e7871f98a21
END:VEVENT
END:VCALENDAR