BEGIN:VCALENDAR
VERSION:2.0
PRODID:-//hacksw/handcal//NONSGML v1.0//EN
CALSCALE:GREGORIAN
BEGIN:VEVENT
LOCATION:Tom Hanafan River&#039\;s Edge Park\, 4200 Avenue B \, Council Bluffs\, IA
DESCRIPTION:
DTSTART:20260509T100000
DTEND:20260509T143000
SUMMARY:Omaha Corgi Races
URL;VALUE=URI:https://www.unleashcb.com/events/omaha_corgi_races/2026-05-09/
DTSTAMP:20260421T074421
UID:69e771254a256
END:VEVENT
END:VCALENDAR