BEGIN:VCALENDAR
VERSION:2.0
PRODID:-//hacksw/handcal//NONSGML v1.0//EN
CALSCALE:GREGORIAN
BEGIN:VEVENT
LOCATION:Tom Hanafan River&#039\;s Edge Park\, 4200 Avenue B\, Council Bluffs\, IA
DESCRIPTION:
DTSTART:20260516T100000
DTEND:20260516T113000
SUMMARY:Foster Care Fun Run - 1K/5K
URL;VALUE=URI:https://www.unleashcb.com/events/oster_care_fun_run_1k5k/2026-05-16/
DTSTAMP:20260420T024010
UID:69e5d85ac2f88
END:VEVENT
END:VCALENDAR