BEGIN:VCALENDAR
VERSION:2.0
PRODID:-//hacksw/handcal//NONSGML v1.0//EN
CALSCALE:GREGORIAN
BEGIN:VEVENT
LOCATION:Iowa Western\, 2700 College Road\, Council Bluffs\, IA
DESCRIPTION:
DTSTART:20260717T170000
DTEND:20260717T220000
SUMMARY:OWI/DUI 12 Hour Program
URL;VALUE=URI:https://www.unleashcb.com/events/owidui_12_hour_program/2026-07-17/
DTSTAMP:20260421T091320
UID:69e7860054456
END:VEVENT
END:VCALENDAR