BEGIN:VCALENDAR
VERSION:2.0
PRODID:-//hacksw/handcal//NONSGML v1.0//EN
CALSCALE:GREGORIAN
BEGIN:VEVENT
LOCATION:Iowa Western\, 2700 College Road\, Council Bluffs\, IA
DESCRIPTION:
DTSTART:20260718T080000
DTEND:20260718T163000
SUMMARY:OWI/DUI 12 Hour Program
URL;VALUE=URI:https://www.unleashcb.com/events/owidui_12_hour_program/2026-07-18/
DTSTAMP:20260421T091727
UID:69e786f704036
END:VEVENT
END:VCALENDAR