BEGIN:VCALENDAR
VERSION:2.0
PRODID:-//hacksw/handcal//NONSGML v1.0//EN
CALSCALE:GREGORIAN
BEGIN:VEVENT
LOCATION:Riverside High School Softball Field\, 18997 US Highway 59\, Oakland\, IA
DESCRIPTION:
DTSTART:20260502T090000
DTEND:20260502T120000
SUMMARY:Pitch Hit &amp\; Run
URL;VALUE=URI:https://www.unleashcb.com/events/pitch_hit_run/2026-05-02/
DTSTAMP:20260421T073943
UID:69e7700f77e9b
END:VEVENT
END:VCALENDAR