BEGIN:VCALENDAR
VERSION:2.0
PRODID:-//hacksw/handcal//NONSGML v1.0//EN
CALSCALE:GREGORIAN
BEGIN:VEVENT
LOCATION:Various Locations in Council Bluffs\, 200 Pearl Street\, Council Bluffs\, IA
DESCRIPTION:
DTSTART:20260509T120000
DTEND:20260509T180000
SUMMARY:Railroad Days at Mile Zero
URL;VALUE=URI:https://www.unleashcb.com/events/railroad_days/2026-05-09/
DTSTAMP:20260421T074419
UID:69e77123eb676
END:VEVENT
END:VCALENDAR