BEGIN:VCALENDAR
VERSION:2.0
PRODID:-//hacksw/handcal//NONSGML v1.0//EN
CALSCALE:GREGORIAN
BEGIN:VEVENT
LOCATION:S&amp\;H Tires \, 3908 Richland Drive\, Council Bluffs\, IA
DESCRIPTION:
DTSTART:20260913T100000
DTEND:20260913T140000
SUMMARY:S&amp\;H Car Show hosted with Nelson&#039\;s Detialing
URL;VALUE=URI:https://www.unleashcb.com/events/samph_car_show_hosted_with_nelsons_detialing/2026-09-13/
DTSTAMP:20260423T125103
UID:69ea5c07af353
END:VEVENT
END:VCALENDAR