BEGIN:VCALENDAR
VERSION:2.0
PRODID:-//hacksw/handcal//NONSGML v1.0//EN
CALSCALE:GREGORIAN
BEGIN:VEVENT
LOCATION:Barley&#039\;s \, 114 West Broadway\, Council Bluffs\, IA
DESCRIPTION:
DTSTART:20260424T173000
DTEND:20260424T213000
SUMMARY:Sip &amp\; Support
URL;VALUE=URI:https://www.unleashcb.com/events/sip_support/2026-04-24/
DTSTAMP:20260421T061400
UID:69e75bf842c72
END:VEVENT
END:VCALENDAR