BEGIN:VCALENDAR
VERSION:2.0
PRODID:-//hacksw/handcal//NONSGML v1.0//EN
CALSCALE:GREGORIAN
BEGIN:VEVENT
LOCATION:Judge Richard Distillery \, 121 Broadway Street\, Carson\, IA
DESCRIPTION:
DTSTART:20260307T130000
DTEND:20260307T200000
SUMMARY:Sips &amp\; Swings
URL;VALUE=URI:https://www.unleashcb.com/events/sips_swings/2026-03-07/
DTSTAMP:20260422T041441
UID:69e89181387d3
END:VEVENT
END:VCALENDAR