BEGIN:VCALENDAR
VERSION:2.0
PRODID:-//hacksw/handcal//NONSGML v1.0//EN
CALSCALE:GREGORIAN
BEGIN:VEVENT
LOCATION:Harrah&#039\;s Council Bluffs Casino and Hotel\, 41 Harrahs Boulevard\, Council Bluffs\, IA
DESCRIPTION:
DTSTART:20260523T200000
DTEND:20260523T000000
SUMMARY:SIX PACK JACK Live
URL;VALUE=URI:https://www.unleashcb.com/events/six_pack_jack_debuts_at_harrahs_casino_council_bluffs/2026-05-23/
DTSTAMP:20260422T035358
UID:69e88ca6dcd24
END:VEVENT
END:VCALENDAR