BEGIN:VCALENDAR
VERSION:2.0
PRODID:-//hacksw/handcal//NONSGML v1.0//EN
CALSCALE:GREGORIAN
BEGIN:VEVENT
LOCATION:Iowa Western Student Center \, 2700 College Road\, Council Bluffs\, IA
DESCRIPTION:
DTSTART:20260509T170000
DTEND:20260509T190000
SUMMARY:Spring Gourmet Dinner
URL;VALUE=URI:https://www.unleashcb.com/events/spring_gourmet_dinner/2026-05-09/
DTSTAMP:20260421T074338
UID:69e770fa70177
END:VEVENT
END:VCALENDAR