BEGIN:VCALENDAR
VERSION:2.0
PRODID:-//hacksw/handcal//NONSGML v1.0//EN
CALSCALE:GREGORIAN
BEGIN:VEVENT
LOCATION:YMCA Healthy Living Center\, 714 South Main Street\, Council Bluffs\, IA
DESCRIPTION:
DTSTART:20260508T080000
DTEND:20260508T120000
SUMMARY:Spring Health Fair
URL;VALUE=URI:https://www.unleashcb.com/events/spring_health_fair/2026-05-08/
DTSTAMP:20260424T180919
UID:69ebf81f0c182
END:VEVENT
END:VCALENDAR