BEGIN:VCALENDAR
VERSION:2.0
PRODID:-//hacksw/handcal//NONSGML v1.0//EN
CALSCALE:GREGORIAN
BEGIN:VEVENT
LOCATION:Zoom\, 2700 College Road\, Council Bluffs\, IA
DESCRIPTION:
DTSTART:20261012T170000
DTEND:20261012T210000
SUMMARY:Substitute Teacher Authorization
URL;VALUE=URI:https://www.unleashcb.com/events/substitute_teacher_authorization/2026-10-12/
DTSTAMP:20260421T091747
UID:69e7870ba8e4f
END:VEVENT
END:VCALENDAR