BEGIN:VCALENDAR
VERSION:2.0
PRODID:-//hacksw/handcal//NONSGML v1.0//EN
CALSCALE:GREGORIAN
BEGIN:VEVENT
LOCATION:Whispering Woods Golf Course\, 3001 Macineery Drive\, Council Bluffs\, IA
DESCRIPTION:
DTSTART:20260502T090000
DTEND:20260502T140000
SUMMARY:SWI Swing for Leadership Golf Scramble
URL;VALUE=URI:https://www.unleashcb.com/events/swi_swing_for_leadership_golf_scramble/2026-05-02/
DTSTAMP:20260421T074536
UID:69e77170b4514
END:VEVENT
END:VCALENDAR