BEGIN:VCALENDAR
VERSION:2.0
PRODID:-//hacksw/handcal//NONSGML v1.0//EN
CALSCALE:GREGORIAN
BEGIN:VEVENT
LOCATION:Council Bluffs Public Library\, 400 Willow Avenue\, Council Bluffs\, IA
DESCRIPTION:
DTSTART:20260516T140000
DTEND:20260516T153000
SUMMARY:Teen Poetry Workshop
URL;VALUE=URI:https://www.unleashcb.com/events/teen_poetry_workshop/2026-05-16/
DTSTAMP:20260424T180234
UID:69ebf68ac983b
END:VEVENT
END:VCALENDAR