BEGIN:VCALENDAR
VERSION:2.0
PRODID:-//hacksw/handcal//NONSGML v1.0//EN
CALSCALE:GREGORIAN
BEGIN:VEVENT
LOCATION:Lewis Central High School \, 3504 Harry Langdon Boulevard\, Council Bluffs\, IA
DESCRIPTION:
DTSTART:20260522T000100
DTEND:20260522T013100
SUMMARY:The Wall That Heals
URL;VALUE=URI:https://www.unleashcb.com/events/the_wall_that_heals/2026-05-22/
DTSTAMP:20260421T074338
UID:69e770fadd0c2
END:VEVENT
END:VCALENDAR