BEGIN:VCALENDAR
VERSION:2.0
PRODID:-//hacksw/handcal//NONSGML v1.0//EN
CALSCALE:GREGORIAN
BEGIN:VEVENT
LOCATION:Virtual\, Virtual\, Council Bluffs\, IA
DESCRIPTION:
DTSTART:20260430T110000
DTEND:20260430T130000
SUMMARY:Virtual Powerful Tools For Caregivers
URL;VALUE=URI:https://www.unleashcb.com/events/virtual_powerful_tools_for_caregivers/2026-04-30/
DTSTAMP:20260423T124856
UID:69ea5b887284c
END:VEVENT
END:VCALENDAR