BEGIN:VCALENDAR
VERSION:2.0
PRODID:-//hacksw/handcal//NONSGML v1.0//EN
CALSCALE:GREGORIAN
BEGIN:VEVENT
LOCATION:Fremont Hall at Iowa Western\, 2700 College Road\, Council Bluffs\, IA
DESCRIPTION:
DTSTART:20260714T090000
DTEND:20260714T150000
SUMMARY:Web Development Intro to JavaScript Discovery Day (9th-12th Grade)
URL;VALUE=URI:https://www.unleashcb.com/events/web_development_intro_to_javascript_discovery_day_9th12th_grade/2026-07-14/
DTSTAMP:20260421T105100
UID:69e79ce46a52f
END:VEVENT
END:VCALENDAR