BEGIN:VCALENDAR
VERSION:2.0
PRODID:-//hacksw/handcal//NONSGML v1.0//EN
CALSCALE:GREGORIAN
BEGIN:VEVENT
LOCATION:Hitchcock Nature Center\, 27792 Ski Hill Loop\, Honey Creek\, IA
DESCRIPTION:
DTSTART:20261212T090000
DTEND:20261212T120000
SUMMARY:Winter Survival Secrets | A Land Ethic Workshop
URL;VALUE=URI:https://www.unleashcb.com/events/winter_survival_secrets_a_land_ethic_workshop/2026-12-12/
DTSTAMP:20260421T092259
UID:69e7884354cde
END:VEVENT
END:VCALENDAR