BEGIN:VCALENDAR
VERSION:2.0
PRODID:-//hacksw/handcal//NONSGML v1.0//EN
CALSCALE:GREGORIAN
BEGIN:VEVENT
LOCATION:City Hall\, 209 Pearl Street\, Council Bluffs\, IA
DESCRIPTION:
DTSTART:20260616T160000
DTEND:20260616T173000
SUMMARY:Zoning Board of Adjustment Meeting
URL;VALUE=URI:https://www.unleashcb.com/events/zoning_board_of_adjustment_meeting/2026-06-16/
DTSTAMP:20260421T091848
UID:69e78748d015d
END:VEVENT
END:VCALENDAR