BEGIN:VCALENDAR
VERSION:2.0
PRODID:-//hacksw/handcal//NONSGML v1.0//EN
CALSCALE:GREGORIAN
BEGIN:VEVENT
LOCATION:City Hall\, 209 Pearl Street\, Council Bluffs\, IA
DESCRIPTION:
DTSTART:20260721T160000
DTEND:20260721T173000
SUMMARY:Zoning Board of Adjustment Meeting
URL;VALUE=URI:https://www.unleashcb.com/events/zoning_board_of_adjustment_meeting/2026-07-21/
DTSTAMP:20260420T023544
UID:69e5d750edfd8
END:VEVENT
END:VCALENDAR